BEGIN:VCALENDAR
VERSION:2.0
PRODID:-//eventon.com NONSGML v1.0//EN
CALSCALE:GREGORIAN
METHOD:PUBLISH
BEGIN:VEVENT
UID:69e5ec4a7d44b
DTSTAMP:20260420T090514Z
DTSTART:20210926T190000Z
DTEND:20210926T213000Z
LOCATION:https://us02web.zoom.us/meeting/register/tZwrcOmgqjsvG9fnTI-1DM2YGzcB4YRxxHNG
SUMMARY:Volunteer Mentor Training: Session 1 of 2
DESCRIPTION:Youth in foster care often lack consistent relationships. They 
 may struggle academically\,  developmentally\,  and relationally. Mentors p
 rovide ongoing emotional support and guidance to youth in foster care throu
 gh our Life Support® program. Mentors commit to visiting a youth in foster
  care twice per month. They actively listen to hopes\,  fears[..]\nhttps://
 fgi4kids.org/events/volunteer-mentor-training-session1_9-26-21/var/event_ac
 cess
URL:https://fgi4kids.org/events/volunteer-mentor-training-session1_9-26-21/var/event_access
END:VEVENT
END:VCALENDAR