BEGIN:VCALENDAR
VERSION:2.0
PRODID:-//eventon.com NONSGML v1.0//EN
CALSCALE:GREGORIAN
METHOD:PUBLISH
BEGIN:VEVENT
UID:69e621b10663d
DTSTAMP:20260420T125305Z
DTSTART:20210927T220000Z
DTEND:20210928T000000Z
LOCATION:https://us02web.zoom.us/meeting/register/tZYocuyqrTMtEtTha9qVInJ828TcceTJnnYX
SUMMARY:Volunteer Mentor Training: Session 2 of 2
DESCRIPTION:Youth in foster care often lack consistent relationships. They 
 may struggle academically\,  developmentally\,  and relationally. Mentors p
 rovide ongoing emotional support and guidance to youth in foster care throu
 gh our Life Support® program. Mentors commit to visiting a youth in foster
  care twice per month. They actively listen to hopes\,  fears[..]\nhttps://
 fgi4kids.org/events/volunteer-mentor-training-session2_9-27-21/var/event_ac
 cess
URL:https://fgi4kids.org/events/volunteer-mentor-training-session2_9-27-21/var/event_access
END:VEVENT
END:VCALENDAR